Workbook
Name 地区名称: #REF!
Name 地区名称: #REF!
Name 地区名称: #REF!
Name 地区名称: #REF!
Name 地区名称: #REF!
Name 地区名称: #REF!
Name 地区名称: #REF!
Name 地区名称: #REF!
Name 地区名称: #REF!
Name 地区名称: #REF!

Sheet NRWNBB

Sheet 首页
A1: 薛城区2025年政府决算表

Sheet 目录
A2: 2025年薛城区决算表
A4: 目 录
A6: 第一部分 一般公共预算报表
A7: 表1 | B7: 2025年薛城区一般公共预算收入决算表
A8: 表2 | B8: 2025年薛城区一般公共预算支出决算表
A9: 表3 | B9: 2025年薛城区本级一般公共预算收入决算表
A10: 表4 | B10: 2025年薛城区本级一般公共预算支出决算表
A11: 表5 | B11: 2025年薛城区本级一般公共预算支出决算表（功能分类）
A12: 表6 | B12: 2025年薛城区本级一般公共预算基本支出决算表（经济分类）
A13: 表7 | B13: 2025年市级对薛城区一般性转移支付及税收返还决算表
A14: 表8 | B14: 2025年市级对薛城区专项转移支付决算表
A15: 表9 | B15: 2025年薛城区本级对镇街税收返还和转移支付决算表
A16: 表10 | B16: 2025年薛城区一般公共预算安排的专项转移支付分地区、分项目决算表
A17: 第二部分 政府性基金预算报表
A18: 表11 | B18: 2025年薛城区政府性基金预算收入决算表
A19: 表12 | B19: 2025年薛城区政府性基金预算支出决算表
A20: 表13 | B20: 2025年薛城区本级政府性基金预算收入决算表
A21: 表14 | B21: 2025年薛城区本级政府性基金预算支出决算表
A22: 表15 | B22: 2025年薛城区政府性基金对下转移支付分地区、分项目决算表
A23: 第三部分 国有资本经营预算报表
A24: 表16 | B24: 2025年薛城区国有资本经营预算收入决算表
A25: 表17 | B25: 2025年薛城区国有资本经营预算支出决算表
A26: 表18 | B26: 2025年薛城区本级国有资本经营预算收入决算表
A27: 表19 | B27: 2025年薛城区本级国有资本经营预算支出决算表
A28: 表20 | B28: 2025年薛城区国有资本经营预算对下转移支付分地区、分项目决算表
A29: 第四部分 社会保险基金预算报表
A30: 表21 | B30: 2025年薛城区社会保险基金预算收入决算表
A31: 表22 | B31: 2025年薛城区社会保险基金预算支出决算表
A32: 表23 | B32: 2025年薛城区社会保险基金预算结余决算表
A33: 表24 | B33: 2025年薛城区本级社会保险基金预算收入决算表
A34: 表25 | B34: 2025年薛城区本级社会保险基金预算支出决算表
A35: 第五部分 地方政府债务情况
A36: 表26 | B36: 2025年薛城区地方政府债务限额余额表
A37: 表27 | B37: 2025年薛城区地方政府一般债务限额余额表
A38: 表28 | B38: 2025年薛城区地方政府专项债务限额余额表
A39: 表29 | B39: 2025年薛城区地方政府债券发行表
A40: 表30 | B40: 2025年薛城区地方政府债券还本付息表
A41: 表31 | B41: 2025年薛城区地方政府专项债券分用途表
A42: 表32 | B42: 2025年薛城区地方政府债务收支决算表

Sheet 第一部分
A1: 第一部分 一般公共预算报表

Sheet 表1全区收入
A1: 表1
A2: 2025年薛城区一般公共预算收入决算表
F3: 单位：万元
A4: 收 入 项 目 | B4: 2024年 决算数 | C4: 2025年 预算数 | D4: 2025年决算数 | G4: 备 注
D5: 金 额 | E5: 占预算% | F5: 比上年 增长%
A6: 一、税收收入 | B6: =SUM(B7:B19) -> 172977 | C6: =SUM(C7:C19) -> 183356 | D6: =SUM(D7:D19) -> 181935 | E6: =ROUND(D6/C6*100,1) -> 99.2 | F6: =(D6/B6-1)*100 -> 5.1787232
A7: 增值税 | B7: 46503 | C7: 52000 | D7: 40296 | E7: =ROUND(D7/C7*100,1) -> 77.5 | F7: =(D7/B7-1)*100 -> -13.347526
A8: 企业所得税 | B8: 11127 | C8: 9000 | D8: 2861 | E8: =ROUND(D8/C8*100,1) -> 31.8 | F8: =(D8/B8-1)*100 -> -74.287768
A9: 个人所得税 | B9: 3504 | C9: 3800 | D9: 4249 | E9: =ROUND(D9/C9*100,1) -> 111.8 | F9: =(D9/B9-1)*100 -> 21.261416
A10: 资源税 | B10: 4734 | C10: 3000 | D10: 2965 | E10: =ROUND(D10/C10*100,1) -> 98.8 | F10: =(D10/B10-1)*100 -> -37.367976
A11: 城市维护建设税 | B11: 6335 | C11: 9000 | D11: 6433 | E11: =ROUND(D11/C11*100,1) -> 71.5 | F11: =(D11/B11-1)*100 -> 1.5469613
A12: 房产税 | B12: 6287 | C12: 16000 | D12: 16973 | E12: =ROUND(D12/C12*100,1) -> 106.1 | F12: =(D12/B12-1)*100 -> 169.96978
A13: 印花税 | B13: 7509 | C13: 7500 | D13: 4341 | E13: =ROUND(D13/C13*100,1) -> 57.9 | F13: =(D13/B13-1)*100 -> -42.189373
A14: 城镇土地使用税 | B14: 9374 | C14: 15000 | D14: 27905 | E14: =ROUND(D14/C14*100,1) -> 186 | F14: =(D14/B14-1)*100 -> 197.68509
A15: 土地增值税 | B15: 7605 | C15: 8000 | D15: 26499 | E15: =ROUND(D15/C15*100,1) -> 331.2 | F15: =(D15/B15-1)*100 -> 248.44181
A16: 车船税 | B16: 879 | C16: 1000 | D16: 1095 | E16: =ROUND(D16/C16*100,1) -> 109.5 | F16: =(D16/B16-1)*100 -> 24.573379
A17: 耕地占用税 | B17: 25656 | C17: 25000 | D17: 29738 | E17: =ROUND(D17/C17*100,1) -> 119 | F17: =(D17/B17-1)*100 -> 15.910508
A18: 契税 | B18: 40770 | C18: 32556 | D18: 18228 | E18: =ROUND(D18/C18*100,1) -> 56 | F18: =(D18/B18-1)*100 -> -55.290655
A19: 环境保护税 | B19: 2694 | C19: 1500 | D19: 352 | E19: =ROUND(D19/C19*100,1) -> 23.5 | F19: =(D19/B19-1)*100 -> -86.933927
A20: 二、非税收入 | B20: =B21+B22+B23+B25+B27+B24 -> 103052 | C20: =C21+C22+C23+C25+C27+C24 -> 106644 | D20: =D21+D22+D23+D25+D26+D27 -> 107282 | E20: =ROUND(D20/C20*100,1) -> 100.6 | F20: =(D20/B20-1)*100 -> 4.1047238
A21: 专项收入 | B21: 6479 | C21: 6810 | D21: 5343 | E21: =ROUND(D21/C21*100,1) -> 78.5 | F21: =(D21/B21-1)*100 -> -17.53357
A22: 行政事业性收费收入 | B22: 21427 | C22: 18734 | D22: 1389 | E22: =ROUND(D22/C22*100,1) -> 7.4 | F22: =(D22/B22-1)*100 -> -93.517525
A23: 罚没收入 | B23: 38623 | C23: 38000 | D23: 11800 | E23: =ROUND(D23/C23*100,1) -> 31.1 | F23: =(D23/B23-1)*100 -> -69.448256
A24: 国有资本经营收入
A25: 国有资源有偿使用收入 | B25: 36523 | C25: 43100 | D25: 88713 | E25: =ROUND(D25/C25*100,1) -> 205.8 | F25: =(D25/B25-1)*100 -> 142.89626
A26: 政府住房基金收入 | D26: 37
A27: 其他收入
A29: 本年收入合计 | B29: =B20+B6 -> 276029 | C29: =C20+C6 -> 290000 | D29: =D20+D6 -> 289217 | E29: =ROUND(D29/C29*100,1) -> 99.7 | F29: =(D29/B29-1)*100 -> 4.7777589
A31: 三、转移性收入 | B31: =SUM(B32:B39) -> 245452 | C31: =SUM(C32:C39) -> 209799 | D31: =SUM(D32:D39) -> 211778
A32: 返还性收入 | B32: 25362 | C32: 25362 | D32: 25362
A33: 一般性转移支付收入 | B33: 104948 | C33: 100000 | D33: 113951
A34: 专项转移支付收入 | B34: 21061 | C34: 22000 | D34: 31028
A35: 区域间转移性收入 | B35: 700
A36: 上年结余收入 | B36: 11736 | C36: =30497+3110 -> 33607 | D36: 33607
A37: 动用预算稳定调节基金 | B37: 265
A38: 调入资金 | B38: 35000 | C38: 21000
A39: 债务转贷收入 | B39: 46380 | C39: 7830 | D39: 7830
A40: 收入总计 | B40: =B29+B31 -> 521481 | C40: =C29+C31 -> 499799 | D40: =D29+D31 -> 500995 | E40: =ROUND(D40/C40*100,1) -> 100.2 | F40: =(D40/B40-1)*100 -> -3.9284269

Sheet 表2全区支出
A1: 表2
A2: 2025年薛城区一般公共预算支出决算表
E3: 单位：万元
A4: 功能支出项目 | B4: 2024年 决算数 | C4: 2025年 预算数 | D4: 2025年决算数 | G4: 备 注
D5: 金 额 | E5: 占预算% | F5: 比上年 增长%
A6: 一、一般公共服务支出 | B6: 26326 | C6: 28000 | D6: 23946 | E6: =ROUND(D6/C6*100,1) -> 85.5 | F6: =(D6/B6-1)*100 -> -9.0404923
A7: 二、国防支出 | B7: 33 | D7: 23 | E7: =ROUND(D7/C7*100,1) -> #DIV/0! | F7: =(D7/B7-1)*100 -> -30.30303
A8: 三、公共安全支出 | B8: 10425 | C8: 18500 | D8: 11939 | E8: =ROUND(D8/C8*100,1) -> 64.5 | F8: =(D8/B8-1)*100 -> 14.522782
A9: 四、教育支出 | B9: 102322 | C9: 102500 | D9: 102569 | E9: =ROUND(D9/C9*100,1) -> 100.1 | F9: =(D9/B9-1)*100 -> 0.24139481
A10: 五、科学技术支出 | B10: 1498 | C10: 1500 | D10: 1567 | E10: =ROUND(D10/C10*100,1) -> 104.5 | F10: =(D10/B10-1)*100 -> 4.6061415
A11: 六、文化旅游体育与传媒支出 | B11: 4293 | C11: 4700 | D11: 3197 | E11: =ROUND(D11/C11*100,1) -> 68 | F11: =(D11/B11-1)*100 -> -25.529932
A12: 七、社会保障和就业支出 | B12: 79915 | C12: 89100 | D12: 96012 | E12: =ROUND(D12/C12*100,1) -> 107.8 | F12: =(D12/B12-1)*100 -> 20.142652
A13: 八、卫生健康支出 | B13: 20027 | C13: 26000 | D13: 21955 | E13: =ROUND(D13/C13*100,1) -> 84.4 | F13: =(D13/B13-1)*100 -> 9.6270035
A14: 九、节能环保支出 | B14: 3461 | C14: 3800 | D14: 3580 | E14: =ROUND(D14/C14*100,1) -> 94.2 | F14: =(D14/B14-1)*100 -> 3.4383126
A15: 十、城乡社区支出 | B15: 11650 | C15: 19000 | D15: 10424 | E15: =ROUND(D15/C15*100,1) -> 54.9 | F15: =(D15/B15-1)*100 -> -10.523605
A16: 十一、农林水支出 | B16: 31135 | C16: 31500 | D16: 31767 | E16: =ROUND(D16/C16*100,1) -> 100.8 | F16: =(D16/B16-1)*100 -> 2.0298699
A17: 十二、交通运输支出 | B17: 2509 | C17: 2600 | D17: 2936 | E17: =ROUND(D17/C17*100,1) -> 112.9 | F17: =(D17/B17-1)*100 -> 17.018733
A18: 十三、资源勘探信息等支出 | B18: 677 | C18: 1100 | D18: 1611 | E18: =ROUND(D18/C18*100,1) -> 146.5 | F18: =(D18/B18-1)*100 -> 137.9616
A19: 十四、商业服务业等支出 | B19: 1972 | C19: 3000 | D19: 2054 | E19: =ROUND(D19/C19*100,1) -> 68.5 | F19: =(D19/B19-1)*100 -> 4.158215
... A22: 十七、自然资源海洋气象等支出 | B22: 636 | C22: 800 | D22: 960 | E22: =ROUND(D22/C22*100,1) -> 120 | F22: =(D22/B22-1)*100 -> 50.943396
A23: 十八、住房保障支出 | B23: 27876 | C23: =38539+3110 -> 41649 | D23: 20328 | E23: =ROUND(D23/C23*100,1) -> 48.8 | F23: =(D23/B23-1)*100 -> -27.077056
A24: 十九、粮油物资储备支出 | B24: 1600 | C24: 2200 | D24: 2918 | E24: =ROUND(D24/C24*100,1) -> 132.6 | F24: =(D24/B24-1)*100 -> 82.375
A25: 二十、灾害防治及应急管理支出 | B25: 2164 | C25: 2700 | D25: 2276 | E25: =ROUND(D25/C25*100,1) -> 84.3 | F25: =(D25/B25-1)*100 -> 5.1756007
A26: 二十一、预备费 | C26: 5000 | E26: =ROUND(D26/C26*100,1) -> 0
A27: 二十二、其他支出 | D27: 100
A28: 二十三、债务付息支出 | B28: 7314 | C28: 6670 | D28: 6756 | E28: =ROUND(D28/C28*100,1) -> 101.3 | F28: =(D28/B28-1)*100 -> -7.6292043
A29: 本年支出合计 | B29: =SUM(B6:B28) -> 336517 | C29: =SUM(C6:C28) -> 391003 | D29: =SUM(D6:D28) -> 347479 | E29: =ROUND(D29/C29*100,1) -> 88.9 | F29: =(D29/B29-1)*100 -> 3.2574877
A31: 债务还本支出 | B31: =SUM(B32:B32) -> 46386 | C31: =SUM(C32:C32) -> 8700 | D31: =SUM(D32:D32) -> 8728
A32: 地方政府一般债务还本支出 | B32: 46386 | C32: 8700 | D32: 8728
A34: 转移性支出 | B34: =SUM(B35:B38,B40) -> 138579 | C34: =SUM(C35:C38) -> 100096 | D34: =SUM(D35:D38,D40) -> 144788
A35: 上解支出 | B35: 104372 | C35: 100096 | D35: =112456-607 -> 111849
A36: 区域间转移性支出 | B36: 600
A37: 调出资金
A38: 补充预算稳定调节基金
A39: 年终结余 | B39: 33607 | D39: =D40 -> 32939
A40: 结转下年 | B40: 33607 | D40: =32332+607 -> 32939
A41: 支出总计 | B41: =B29+B31+B34 -> 521482 | C41: =C29+C31+C34 -> 499799 | D41: =D29+D31+D34 -> 500995 | E41: =D41/C41*100 -> 100.2393 | F41: =(D41/B41-1)*100 -> -3.9286112

Sheet GAPEVW

Sheet 表3本级收入
A1: 表3
A2: 2025年薛城区本级一般公共预算收入决算表
F3: 单位：万元
A4: 收 入 项 目 | B4: 2024年 决算数 | C4: 2025年 预算数 | D4: 2025年决算数 | G4: 备 注
D5: 金 额 | E5: 占预算% | F5: 比上年 增长%
A6: 一、税收收入 | B6: =SUM(B7:B19) -> 99981 | C6: =SUM(C7:C19) -> 105956 | D6: =SUM(D7:D19) -> 104975 | E6: =ROUND(D6/C6*100,1) -> 99.1 | F6: =(D6/B6-1)*100 -> 4.994949
A7: 增值税 | B7: 14079 | C7: 24700 | D7: 12278 | E7: =ROUND(D7/C7*100,1) -> 49.7 | F7: =(D7/B7-1)*100 -> -12.792102
A8: 企业所得税 | B8: 2687 | C8: 2700 | D8: -1837 | E8: =ROUND(D8/C8*100,1) -> -68 | F8: =(D8/B8-1)*100 -> -168.36621
A9: 个人所得税 | B9: 3504 | C9: 3800 | D9: 4249 | E9: =ROUND(D9/C9*100,1) -> 111.8 | F9: =(D9/B9-1)*100 -> 21.261416
A10: 资源税 | B10: 4148 | C10: 2500 | D10: 2017 | E10: =ROUND(D10/C10*100,1) -> 80.7 | F10: =(D10/B10-1)*100 -> -51.374156
A11: 城市维护建设税 | B11: 2336 | C11: 2900 | D11: 2902 | E11: =ROUND(D11/C11*100,1) -> 100.1 | F11: =(D11/B11-1)*100 -> 24.229452
A12: 房产税 | B12: 1800 | C12: 4000 | D12: 3929 | E12: =ROUND(D12/C12*100,1) -> 98.2 | F12: =(D12/B12-1)*100 -> 118.27778
A13: 印花税 | B13: 1885 | C13: 2000 | D13: 971 | E13: =ROUND(D13/C13*100,1) -> 48.6 | F13: =(D13/B13-1)*100 -> -48.488064
A14: 城镇土地使用税 | B14: 1397 | C14: 3100 | D14: 15292 | E14: =ROUND(D14/C14*100,1) -> 493.3 | F14: =(D14/B14-1)*100 -> 994.63135
A15: 土地增值税 | B15: 564 | C15: 1500 | D15: 16069 | E15: =ROUND(D15/C15*100,1) -> 1071.3 | F15: =(D15/B15-1)*100 -> 2749.1135
A16: 车船税 | B16: 879 | C16: 1000 | D16: 1095 | E16: =ROUND(D16/C16*100,1) -> 109.5 | F16: =(D16/B16-1)*100 -> 24.573379
A17: 耕地占用税 | B17: 25656 | C17: 25000 | D17: 29738 | E17: =ROUND(D17/C17*100,1) -> 119 | F17: =(D17/B17-1)*100 -> 15.910508
A18: 契税 | B18: 40770 | C18: 32556 | D18: 18228 | E18: =ROUND(D18/C18*100,1) -> 56 | F18: =(D18/B18-1)*100 -> -55.290655
A19: 环境保护税 | B19: 276 | C19: 200 | D19: 44 | E19: =ROUND(D19/C19*100,1) -> 22
A20: 二、非税收入 | B20: =B21+B22+B23+B25+B26 -> 103052 | C20: =SUM(C21:C26) -> 106644 | D20: =SUM(D21:D26) -> 107282 | E20: =ROUND(D20/C20*100,1) -> 100.6 | F20: =(D20/B20-1)*100 -> 4.1047238
A21: 专项收入 | B21: 6479 | C21: 6810 | D21: 5343 | E21: =ROUND(D21/C21*100,1) -> 78.5 | F21: =(D21/B21-1)*100 -> -17.53357
A22: 行政事业性收费收入 | B22: 21426 | C22: 18734 | D22: 1389 | E22: =ROUND(D22/C22*100,1) -> 7.4 | F22: =(D22/B22-1)*100 -> -93.517222
A23: 罚没收入 | B23: 38624 | C23: 38000 | D23: 11800 | E23: =ROUND(D23/C23*100,1) -> 31.1 | F23: =(D23/B23-1)*100 -> -69.449047
A24: 国有资本经营收入 | E24: =ROUND(D24/C24*100,1) -> #DIV/0! | F24: =(D24/B24-1)*100 -> #DIV/0!
A25: 国有资源有偿使用收入 | B25: 36523 | C25: 43100 | D25: 88713 | E25: =ROUND(D25/C25*100,1) -> 205.8 | F25: =(D25/B25-1)*100 -> 142.89626
A26: 其他收入 | D26: 37 | E26: =ROUND(D26/C26*100,1) -> #DIV/0! | F26: =(D26/B26-1)*100 -> #DIV/0!
A28: 本年收入合计 | B28: =B20+B6 -> 203033 | C28: =C20+C6 -> 212600 | D28: =D20+D6 -> 212257 | E28: =ROUND(D28/C28*100,1) -> 99.8 | F28: =(D28/B28-1)*100 -> 4.5431038
A30: 转移性收入 | B30: =SUM(B31:B39) -> 301175 | C30: =SUM(C31:C39) -> 262970 | D30: =SUM(D31:D39) -> 268352
A31: 返还性收入 | B31: 22967 | C31: 22967 | D31: 22967
A32: 一般性转移支付收入 | B32: =71116+997 -> 72113 | C32: 71000 | D32: 81230
A33: 专项转移支付收入 | B33: 17472 | C33: 17000 | D33: 26749
A34: 区域间转移性收入 | B34: 700
A35: 上解收入 | B35: =114542-20000 -> 94542 | C35: 89566 | D35: 95969
A36: 上年结余收入 | B36: 11736 | C36: =30497+3110 -> 33607 | D36: 33607
A37: 调入预算稳定调节基金 | B37: 265
A38: 调入资金 | B38: 35000 | C38: 21000
A39: 债务转贷收入 | B39: 46380 | C39: 7830 | D39: 7830
A40: 收入总计 | B40: =B28+B30 -> 504208 | C40: =C28+C30 -> 475570 | D40: =D28+D30 -> 480609 | E40: =ROUND(D40/C40*100,1) -> 101.1 | F40: =(D40/B40-1)*100 -> -4.6804097

Sheet 表4本级支出
A1: 表4
A2: 2025年薛城区本级一般公共预算支出决算表
E3: 单位：万元
A4: 功能支出项目 | B4: 2024年 决算数 | C4: 2025年 预算数 | D4: 2025年决算数 | G4: 备 注
D5: 金 额 | E5: 占预算% | F5: 比上年 增长%
A6: 一、一般公共服务支出 | B6: 20836 | C6: 20100 | D6: 20205 | E6: =ROUND(D6/C6*100,1) -> 100.5 | F6: =(D6/B6-1)*100 -> -3.0284124
A7: 二、国防支出 | B7: 33 | D7: 23 | F7: =(D7/B7-1)*100 -> -30.30303
A8: 三、公共安全支出 | B8: 10425 | C8: 13500 | D8: 11939 | E8: =ROUND(D8/C8*100,1) -> 88.4 | F8: =(D8/B8-1)*100 -> 14.522782
A9: 四、教育支出 | B9: 100796 | C9: 100300 | D9: 96781 | E9: =ROUND(D9/C9*100,1) -> 96.5 | F9: =(D9/B9-1)*100 -> -3.983293
A10: 五、科学技术支出 | B10: 220 | C10: 260 | D10: 342 | E10: =ROUND(D10/C10*100,1) -> 131.5 | F10: =(D10/B10-1)*100 -> 55.454545
A11: 六、文化旅游体育与传媒支出 | B11: 3331 | C11: 3400 | D11: 1448 | E11: =ROUND(D11/C11*100,1) -> 42.6 | F11: =(D11/B11-1)*100 -> -56.529571
A12: 七、社会保障和就业支出 | B12: 76255 | C12: 77200 | D12: 96011 | E12: =ROUND(D12/C12*100,1) -> 124.4 | F12: =(D12/B12-1)*100 -> 25.907809
A13: 八、卫生健康支出 | B13: 17998 | C13: 18500 | D13: 17420 | E13: =ROUND(D13/C13*100,1) -> 94.2 | F13: =(D13/B13-1)*100 -> -3.2114679
A14: 九、节能环保支出 | B14: 2979 | C14: 3020 | D14: 1893 | E14: =ROUND(D14/C14*100,1) -> 62.7 | F14: =(D14/B14-1)*100 -> -36.455186
A15: 十、城乡社区支出 | B15: 11464 | C15: 11500 | D15: 7513 | E15: =ROUND(D15/C15*100,1) -> 65.3 | F15: =(D15/B15-1)*100 -> -34.46441
A16: 十一、农林水支出 | B16: 15637 | C16: 15800 | D16: 18778 | E16: =ROUND(D16/C16*100,1) -> 118.8 | F16: =(D16/B16-1)*100 -> 20.086973
A17: 十二、交通运输支出 | B17: 2509 | C17: 2600 | D17: 2300 | E17: =ROUND(D17/C17*100,1) -> 88.5 | F17: =(D17/B17-1)*100 -> -8.330012
A18: 十三、资源勘探信息等支出 | B18: 597 | C18: 1000 | D18: 1609 | E18: =ROUND(D18/C18*100,1) -> 160.9 | F18: =(D18/B18-1)*100 -> 169.51424
A19: 十四、商业服务业等支出 | B19: 1972 | C19: 3000 | D19: 2054 | E19: =ROUND(D19/C19*100,1) -> 68.5 | F19: =(D19/B19-1)*100 -> 4.158215
... A25: 二十、灾害防治及应急管理支出 | B25: 2164 | C25: 2700 | D25: 2275 | E25: =ROUND(D25/C25*100,1) -> 84.3 | F25: =(D25/B25-1)*100 -> 5.12939
A26: 二十一、预备费 | E26: =ROUND(D26/C26*100,1) -> #DIV/0! | G26: 实际已支出，在其他类级项目中统计
A27: 二十二、其他支出 | D27: 100
A28: 二十三、债务付息支出 | B28: 7314 | C28: 6670 | D28: 6757
A30: 本年支出合计 | B30: =SUM(B6:B28) -> 305120 | C30: =SUM(C6:C28) -> 324744 | D30: =SUM(D6:D28) -> 310965 | E30: =ROUND(D30/C30*100,1) -> 95.8 | F30: =(D30/B30-1)*100 -> 1.9156397
A32: 债务还本支出 | B32: =SUM(B33:B33) -> 46386 | C32: =SUM(C33:C33) -> 8700 | D32: =SUM(D33:D33) -> 8728
A33: 地方政府一般债务还本支出 | B33: 46386 | C33: 8700 | D33: 8728
A35: 转移性支出 | B35: =SUM(B36:B39,B41) -> 152702 | C35: =SUM(C36:C39) -> 142126 | D35: =SUM(D36:D39,D41) -> 160916
A36: 上解支出 | B36: =81788-1-452-1660 -> 79675 | C36: 91500 | D36: 115969
A37: 区域间转移性支出 | B37: 600
A38: 补助下级支出 | B38: 38820 | C38: 50626 | D38: 12008
A39: 补充预算稳定调节基金
A40: 年终结余 | B40: =B41 -> 33607 | D40: 32939
A41: 结转下年 | B41: =30497+3110 -> 33607 | D41: 32939
A42: 支出总计 | B42: =B30+B32+B35 -> 504208 | C42: =C30+C32+C35 -> 475570 | D42: =D30+D32+D35 -> 480609 | E42: =D42/C42*100 -> 101.05957 | F42: =(D42/B42-1)*100 -> -4.6804097 | H42: =表3本级收入!D40-D42 -> 0
B45: =B42-表3本级收入!B40 -> 0

Sheet 表5本级支出（功能分类）
A1: 表5
A2: 2025年薛城区本级一般公共预算支出决算（功能分类）
A4: 科目编码 | B4: 科目名称 | C4: 区级
B5: 一般公共预算支出合计 | C5: 310966
A6: 201 | B6: 一般公共服务支出 | C6: 20205
A7: 20101 | B7: 人大事务 | C7: 491
A8: 2010101 | B8: 行政运行 | C8: 382
A9: 2010102 | B9: 一般行政管理事务 | C9: 23
A10: 2010104 | B10: 人大会议 | C10: 59
A11: 2010108 | B11: 代表工作 | C11: 26
A12: 20102 | B12: 政协事务 | C12: 384
A13: 2010201 | B13: 行政运行 | C13: 291
A14: 2010202 | B14: 一般行政管理事务 | C14: 14
A15: 2010204 | B15: 政协会议 | C15: 62
A16: 2010205 | B16: 委员视察 | C16: 17
A17: 20103 | B17: 政府办公厅(室)及相关机构事务 | C17: 3720
... A378: 2320303 | B378: 地方政府向国际组织借款付息支出 | C378: 15

Sheet 表6本级一般支出（经济分类）
A1: 表6
A2: 2025年薛城区本级一般公共预算基本支出决算（经济分类）
A4: 科目编码 | B4: 科目名称 | C4: 区级 | D4: 备注
B5: 一般公共预算经济分类基本支出合计 | C5: =SUM(C6,C11,C22,C30,C37,C41,C44,C48,C53,C59,C63,C68) -> 310966
A6: 501 | B6: 机关工资福利支出 | C6: =SUM(C7:C10) -> 27032
A7: 50101 | B7: 工资奖金津补贴 | C7: 10407
A8: 50102 | B8: 社会保障缴费 | C8: 8710
A9: 50103 | B9: 住房公积金 | C9: 1864
A10: 50199 | B10: 其他工资福利支出 | C10: 6051
A11: 502 | B11: 机关商品和服务支出 | C11: =SUM(C12:C21) -> 28242
A12: 50201 | B12: 办公经费 | C12: 6187
A13: 50202 | B13: 会议费 | C13: 123
A14: 50203 | B14: 培训费 | C14: 189
A15: 50204 | B15: 专用材料购置费 | C15: 102
A16: 50205 | B16: 委托业务费 | C16: 7588
A17: 50206 | B17: 公务接待费 | C17: 0
A18: 50207 | B18: 因公出国(境)费用 | C18: 8
A19: 50208 | B19: 公务用车运行维护费 | C19: 64
A20: 50209 | B20: 维修(护)费 | C20: 279
A21: 50299 | B21: 其他商品和服务支出 | C21: 13702
A22: 503 | B22: 机关资本性支出(一) | C22: 39104
A23: 50301 | B23: 房屋建筑物购建
A24: 50302 | B24: 基础设施建设 | C24: 26555
A25: 50303 | B25: 公务用车购置
A26: 50305 | B26: 土地征迁补偿和安置支出 | C26: 5390
A27: 50306 | B27: 设备购置 | C27: 65
A28: 50307 | B28: 大型修缮 | C28: 50
A29: 50399 | B29: 其他资本性支出 | C29: 7044
A30: 504 | B30: 机关资本性支出(二) | C30: 0
A31: 50401 | B31: 房屋建筑物购建
A32: 50402 | B32: 基础设施建设
A33: 50403 | B33: 公务用车购置
A34: 50404 | B34: 设备购置
A35: 50405 | B35: 大型修缮
A36: 50499 | B36: 其他资本性支出
A37: 505 | B37: 对事业单位经常性补助 | C37: =C38+C39 -> 114951
A38: 50501 | B38: 工资福利支出 | C38: 94601
A39: 50502 | B39: 商品和服务支出 | C39: 20350
A40: 50599 | B40: 其他对事业单位补助
A41: 506 | B41: 对事业单位资本性补助 | C41: 2298
...

Sheet 表7市级对薛城区一般性转移支付及税收返还情况表 
A1: 表7
A2: 2025年市级对薛城区一般性转移支付及税收返还情况表
B3: 单位：万元
A4: 项 目 | B4: 金额
A5: 合 计 | B5: =B6+B13 -> 139313
A6: 返还性收入 | B6: 25362
A7: 所得税基数返还收入 | B7: 1656
A8: 成品油税费改革税收返还收入 | B8: 240
A9: 增值税税收返还收入 | B9: 5971
A10: 消费税税收返还收入 | B10: 794
A11: 增值税“五五分享”税收返还收入 | B11: 16345
A12: 其他返还性收入 | B12: 356
A13: 一般性转移支付收入 | B13: =SUM(B14:B31) -> 113951
A14: 均衡性转移支付收入 | B14: 11965
A15: 县级基本财力保障机制奖补资金收入 | B15: 17488
A16: 结算补助收入 | B16: 1248
A17: 企业事业单位划转补助收入 | B17: -1386
A18: 产粮(油)大县奖励资金收入 | B18: 2496
A19: 固定数额补助收入 | B19: 4768
A20: 巩固脱贫攻坚成果衔接乡村振兴转移支付收入 | B20: 1181
A21: 公共安全共同财政事权转移支付收入 | B21: 1308
A22: 教育共同财政事权转移支付收入 | B22: 11227
A23: 文化旅游体育与传媒共同财政事权转移支付收入 | B23: 442
A24: 社会保障和就业共同财政事权转移支付收入 | B24: 26721
A25: 医疗卫生共同财政事权转移支付收入 | B25: 10779
... A31: 其他一般性转移支付收入 | B31: 3745

Sheet 表8市级对薛城区专项转移支付情况表
A1: 表8
A2: 2025年市级对薛城区专项转移支付情况表
B3: 单位：万元
A4: 项 目 | B4: 金 额
A5: 一般公共服务 | B5: 111
A6: 国防 | B6: 5
A7: 公共安全 | B7: 12
A8: 教育 | B8: 184
A9: 科学技术 | B9: 200
A10: 社会保障和就业 | B10: 43
A11: 卫生健康 | B11: 163
A12: 节能环保 | B12: 6358
A13: 城乡社区 | B13: 825
A14: 农林水 | B14: 3165
A15: 交通运输 | B15: 795
A16: 资源勘探工业信息等 | B16: 299
... A21: 其他收入 | B21: 300
A22: 合 计 | B22: =SUM(B5:B21) -> 31028

Sheet 表9区对镇街返还性支出和转移支付支出情况
A1: 表9
A2: 2025年薛城区区级对镇街税收返还和转移支付决算表
H3: 单位：万元
A4: 项 目 | B4: 合 计 | C4: 陶庄镇 | D4: 邹坞镇 | E4: 临城街道 | F4: 常庄镇 | G4: 沙沟镇 | H4: 周营镇 | I4: 新城街道
A5: 一、税收返还 | B5: =SUM(C5:I5) -> 2395 | C5: =SUM(C6:C8) -> 771 | D5: =SUM(D6:D8) -> 388 | E5: =SUM(E6:E8) -> 492 | F5: =SUM(F6:F8) -> 561 | G5: =SUM(G6:G8) -> 94 | H5: =SUM(H6:H8) -> 89 | I5: =SUM(I6:I8) -> 0
A6: 其中：增值税税收返还 | B6: =SUM(C6:I6) -> 1359 | C6: 395 | D6: 210 | E6: 314 | F6: 341 | G6: 51 | H6: 48
A7: 所得税基数返还 | B7: =SUM(C7:I7) -> 894 | C7: 369 | D7: 155 | E7: 127 | F7: 196 | G7: 24 | H7: 23
A8: 营业税基数返还 | B8: =SUM(C8:I8) -> 142 | C8: 7 | D8: 23 | E8: 51 | F8: 24 | G8: 19 | H8: 18
A9: 二、一般性转移支付补助 | B9: =SUM(C9:I9) -> 32721 | C9: =SUM(C10:C17) -> 5269 | D9: =SUM(D10:D17) -> 3778 | E9: =SUM(E10:E17) -> 3075 | F9: =SUM(F10:F17) -> 5010 | G9: =SUM(G10:G17) -> 5214 | H9: =SUM(H10:H17) -> 6936 | I9: =SUM(I10:I17) -> 3439
A10: 其中：均衡性转移支付 | B10: =SUM(C10:I10) -> 1504 | C10: 640 | D10: 12 | E10: 43 | F10: 0 | G10: 134 | H10: 175 | I10: 500
A11: 基本财力保障机制奖补资金 | B11: =SUM(C11:I11) -> 13434 | C11: 2278 | D11: 1358 | E11: 967 | F11: 2358 | G11: 3120 | H11: 2938 | I11: 415
A12: 结算补助 | B12: =SUM(C12:I12) -> 696 | C12: -55 | D12: -20 | E12: 8 | F12: -30 | G12: 256 | H12: 337 | I12: 200
A13: 单位划转补助 | B13: =SUM(C13:I13) -> -452 | C13: -144 | D13: -74 | E13: -74 | F13: -106 | G13: -34 | H13: -20 | I13: 0
A14: 固定数额补助 | B14: =SUM(C14:I14) -> 5275 | C14: 953 | D14: 577 | E14: 299 | F14: 663 | G14: 1288 | H14: 1244 | I14: 251
A15: 贫困地区转移支付 | B15: =SUM(C15:I15) -> 578 | C15: 29 | D15: 506 | E15: 2 | F15: 11 | G15: 15 | H15: 15 | I15: 0
A16: 农林水共同财政事权转移支付 | B16: =SUM(C16:I16) -> 4319 | C16: 1186 | D16: 794 | E16: 242 | F16: 707 | G16: 324 | H16: 980 | I16: 86
A17: 其他一般性转移支付收入 | B17: =SUM(C17:I17) -> 7367 | C17: 382 | D17: 625 | E17: 1588 | F17: 1407 | G17: 111 | H17: 1267 | I17: 1987
A18: 合计 | B18: =B5+B9 -> 35116 | C18: =C5+C9 -> 6040 | D18: =D5+D9 -> 4166 | E18: =E5+E9 -> 3567 | F18: =F5+F9 -> 5571 | G18: =G5+G9 -> 5308 | H18: =H5+H9 -> 7025 | I18: =I5+I9 -> 3439

Sheet 表10区对镇街专项转移支付支出情况
A1: 表10
A2: 2025年薛城区一般公共预算安排的专项转移支付分地区、分项目决算表
H3: 单位：万元
A4: 项 目 | B4: 合计 | C4: 陶庄镇 | D4: 邹坞镇 | E4: 临城街道 | F4: 常庄镇 | G4: 沙沟镇 | H4: 周营镇 | I4: 巨山街道
A5: 专项转移支付收入 | B5: =SUM(C5:I5) -> 4279 | C5: 198 | D5: 1023 | E5: 1604 | F5: 112 | G5: 19 | H5: 1319 | I5: 4

Sheet 第二部分
A1: 第二部分 政府性基金预算报表

Sheet 表11基金收入
A1: 表11
A2: 2025年薛城区政府性基金预算收入决算表
G3: 单位：万元
A4: 收 入 项 目 | B4: 2024年 决算数 | C4: 2025年 预算数 | D4: 2025年决算数 | G4: 备 注
D5: 金额 | E5: 占预算% | F5: 比上年 增长%
A6: 一、国有土地收益基金收入 | E6: =D6/C6% -> #DIV/0! | F6: =(D6/B6-1)*100 -> #DIV/0!
A7: 二、农业土地开发资金收入 | E7: =D7/C7% -> #DIV/0! | F7: =(D7/B7-1)*100 -> #DIV/0!
A8: 三、国有土地使用权出让收入 | B8: 336589 | C8: 500000 | D8: 297221 | E8: =D8/C8% -> 59.4442 | F8: =(D8/B8-1)*100 -> -11.696164
A9: 四、彩票公益金收入 | B9: 375 | C9: 500 | D9: 738 | E9: =D9/C9% -> 147.6 | F9: =(D9/B9-1)*100 -> 96.8
A10: 五、城市基础设施配套费收入 | B10: 123800 | C10: 22000 | D10: 31200 | E10: =D10/C10% -> 141.81818 | F10: =(D10/B10-1)*100 -> -74.798061
A11: 六、污水处理费收入 | C11: 3000 | E11: =D11/C11% -> 0 | F11: =(D11/B11-1)*100 -> #DIV/0!
A12: 七、专项债券对应项目专项收入 | B12: 9054 | C12: 11252 | D12: 12405 | E12: =D12/C12% -> 110.24707 | G12: 专项债券利息收入
A13: 本年收入合计 | B13: =SUM(B6:B12) -> 469818 | C13: =SUM(C6:C12) -> 536752 | D13: =SUM(D6:D12) -> 341564 | E13: =D13/C13% -> 63.635347 | F13: =(D13/B13-1)*100 -> -27.298656
A15: 转移性收入 | B15: =SUM(B17:B20) -> 327658 | C15: =SUM(C17:C20) -> 191879 | D15: =SUM(D16:D20) -> 390206
A16: 抗疫特别国债
A17: 专项补助收入 | B17: 3854 | C17: 4000 | D17: 24627
A18: 上年结余收入 | B18: 15804 | C18: 123154 | D18: 123154
A19: 调入资金
A20: 债务转贷收入 | B20: 308000 | C20: 64725 | D20: 242425
A21: 新增债券 | B21: 154650 | D21: 161700
A22: 置换债券 | B22: 153350 | C22: 64725 | D22: =D20-D21 -> 80725
A24: 收入总计 | B24: =B13+B15 -> 797476 | C24: =C13+C15 -> 728631 | D24: =D13+D15 -> 731770 | E24: =D24/C24*100 -> 100.43081 | F24: =(D24/B24-1)*100 -> -8.2392448

Sheet 表12基金支出
A1: 表12
A2: 2025年薛城区政府性基金预算支出决算表
G3: 单位：万元
A4: 功能支出项目 | B4: 2024年 决算数 | C4: 2025年 预算数 | D4: 2025决算数 | G4: 备 注
D5: 金 额 | E5: 占预算% | F5: 比上年 增长%
A6: 一、文化旅游体育与传媒支出 | B6: =B7+B8 -> 0 | C6: =C7+C8 -> 436 | D6: =D7+D8 -> 36
A7: 国家电影事业发展专项资金安排的支出 | C7: 436 | D7: 36
A8: 旅游发展基金支出
A9: 二、城乡社区支出 | B9: =SUM(B10:B16) -> 424951 | C9: =SUM(C10:C16) -> 550092 | D9: =SUM(D10:D17) -> 297671 | E9: =D9/C9% -> 54.112948 | F9: =(D9/B9-1)*100 -> -29.951689
A10: 国有土地使用权出让收入及对应专项债务收入安排的支出 | B10: 288384 | C10: 466892 | D10: 262994 | E10: =D10/C10% -> 56.328658 | F10: =(D10/B10-1)*100 -> -8.8042332
A11: 国有土地收益基金及对应专项债务收入安排的支出
A12: 农业土地开发资金安排的支出
A13: 城市基础设施配套费安排的支出 | B13: 88367 | C13: 22000 | D13: 27677 | E13: =D13/C13% -> 125.80455 | F13: =(D13/B13-1)*100 -> -68.679484
A14: 污水处理费安排的支出 | B14: 0 | C14: 3000 | E14: =D14/C14% -> 0 | F14: =(D14/B14-1)*100 -> #DIV/0!
A15: 棚户区改造专项债券收入安排的支出 | B15: 48200 | C15: 58200 | E15: =D15/C15% -> 0 | F15: =(D15/B15-1)*100 -> -100
A16: 国有土地使用权出让收入对应专项债务收入安排的支出 | E16: =D16/C16% -> #DIV/0! | F16: =(D16/B16-1)*100 -> #DIV/0!
A17: 超长期特别国债安排的支出 | D17: 7000 | E17: =D17/C17% -> #DIV/0! | F17: =(D17/B17-1)*100 -> #DIV/0!
A18: 三、农林水支出 | B18: =B19+B20 -> 1 | C18: =C19+C20 -> 136 | D18: =D19+D20 -> 3706 | E18: =D18/C18% -> 2725 | F18: =(D18/B18-1)*100 -> 370500
A19: 大中型水库移民后期扶持基金支出 | B19: 1 | C19: 136 | D19: 136 | E19: =D19/C19% -> 100 | F19: =(D19/B19-1)*100 -> 13500
A20: 超长期特别国债安排的支出 | D20: 3570 | E20: =D20/C20% -> #DIV/0! | F20: =(D20/B20-1)*100 -> #DIV/0!
A21: 四、资源勘探工业信息等支出 | B21: =B22 -> 367 | C21: =C22 -> 0 | D21: =D22 -> 300 | E21: =D21/C21% -> #DIV/0! | F21: =(D21/B21-1)*100 -> -18.256131
A22: 超长期特别国债安排的支出 | B22: 367 | D22: 300 | E22: =D22/C22% -> #DIV/0! | F22: =(D22/B22-1)*100 -> -18.256131
A23: 五、节能环保支出 | B23: =B24 -> 0 | C23: =C24 -> 0 | D23: =D24 -> 700 | E23: =D23/C23% -> #DIV/0! | F23: =(D23/B23-1)*100 -> #DIV/0!
A24: 超长期特别国债安排的支出 | D24: 700 | E24: =D24/C24% -> #DIV/0! | F24: =(D24/B24-1)*100 -> #DIV/0!
A25: 六、其他支出 | B25: =SUM(B26:B27) -> 50343 | C25: =SUM(C26:C27) -> 118781 | D25: =SUM(D26:D27) -> 280201 | E25: =D25/C25% -> 235.89716 | F25: =(D25/B25-1)*100 -> 456.58383
A26: 其他政府性基金及对应专项债务收入安排的支出 | B26: 49872 | C26: 118278 | D26: 279978
A27: 彩票公益金安排的支出 | B27: 471 | C27: 503 | D27: 223 | E27: =D27/C27% -> 44.333996 | F27: =(D27/B27-1)*100 -> -52.653928
A28: 七、债务付息支出 | B28: 28170 | C28: 30636 | D28: 32115 | E28: =D28/C28% -> 104.82765 | F28: =(D28/B28-1)*100 -> 14.00426
E29: =D29/C29% -> #DIV/0! | F29: =(D29/B29-1)*100 -> #DIV/0!
A30: 本年支出合计 | B30: =B6+B9+B25+B28+B18+B21+B23 -> 503832 | C30: =C6+C9+C25+C28+C18+C21+C23 -> 700081 | D30: =D6+D9+D25+D28+D18+D21+D23 -> 614729 | E30: =D30/C30% -> 87.808268 | F30: =(D30/B30-1)*100 -> 22.01071
A32: 债务还本支出 | B32: =SUM(B33:B33) -> 121950 | C32: =SUM(C33:C33) -> 7250 | D32: =SUM(D33:D33) -> 81450
A33: 地方政府专项债务还本支出 | B33: 121950 | C33: 7250 | D33: 81450
A35: 转移性支出 | B35: 45645 | C35: =SUM(C36:C38) -> 21300 | D35: =SUM(D36:D38) -> 35591
A36: 上解支出 | B36: 13540 | C36: 300 | D36: 11790
A37: 调出资金 | B37: 35000 | C37: 21000
A38: 年终结余 | B38: 123154 | D38: 23801
A40: 支出总计 | B40: 970169 | C40: =C30+C35+C32 -> 728631 | D40: =D30+D35+D32 -> 731770 | E40: =D40/C40% -> 100.43081 | F40: =(D40/B40-1)*100 -> -24.572935
D42: =D40-D38 -> 707969

Sheet 表13本级基金收入
A1: 表13
A2: 2025年薛城区本级政府性基金预算收入决算表
G3: 单位：万元
A4: 收 入 项 目 | B4: 2024年 决算数 | C4: 2025年 预算数 | D4: 2025年决算数 | G4: 备 注
D5: 金额 | E5: 占预算% | F5: 比上年 增长%
A6: 一、国有土地收益基金收入 | E6: =D6/C6% -> #DIV/0! | F6: =(D6/B6-1)*100 -> #DIV/0!
A7: 二、农业土地开发资金收入 | E7: =D7/C7% -> #DIV/0! | F7: =(D7/B7-1)*100 -> #DIV/0!
A8: 三、国有土地使用权出让收入 | B8: 336589 | C8: 500000 | D8: 297221 | E8: =D8/C8% -> 59.4442 | F8: =(D8/B8-1)*100 -> -11.696164
A9: 四、彩票公益金收入 | B9: 375 | C9: 500 | D9: 738 | E9: =D9/C9% -> 147.6 | F9: =(D9/B9-1)*100 -> 96.8
A10: 五、城市基础设施配套费收入 | B10: 123800 | C10: 22000 | D10: 31200 | E10: =D10/C10% -> 141.81818 | F10: =(D10/B10-1)*100 -> -74.798061
A11: 六、污水处理费收入 | C11: 3000 | E11: =D11/C11% -> 0 | F11: =(D11/B11-1)*100 -> #DIV/0!
A12: 七、专项债券对应项目专项收入 | B12: 9054 | C12: 11252 | D12: 12405 | E12: =D12/C12% -> 110.24707 | G12: 专项债券利息收入
A13: 本年收入合计 | B13: =SUM(B8:B12) -> 469818 | C13: =SUM(C8:C12) -> 536752 | D13: =SUM(D8:D12) -> 341564 | E13: =D13/C13% -> 63.635347 | F13: =(D13/B13-1)*100 -> -27.298656
A15: 转移性收入 | B15: =SUM(B17:B20) -> 327658 | C15: =SUM(C17:C20) -> 191879 | D15: =SUM(D16:D20) -> 390206
A16: 抗疫特别国债
A17: 专项补助收入 | B17: 3854 | C17: 4000 | D17: 24627
A18: 上年结余收入 | B18: 15804 | C18: 123154 | D18: 123154
A19: 调入资金
A20: 债务转贷收入 | B20: 308000 | C20: 64725 | D20: 242425
A21: 新增债券 | B21: 154650 | D21: 161700
A22: 置换债券 | B22: 153350 | C22: 64725 | D22: =D20-D21 -> 80725
A24: 收入总计 | B24: =B13+B15 -> 797476 | C24: =C13+C15 -> 728631 | D24: =D13+D15 -> 731770 | E24: =D24/C24*100 -> 100.43081 | F24: =(D24/B24-1)*100 -> -8.2392448

Sheet 表14本级基金支出
A1: 表14
A2: 2025年薛城区本级政府性基金预算支出决算表
G3: 单位：万元
A4: 功能支出项目 | B4: 2024年 决算数 | C4: 2025年 预算数 | D4: 2025年决算数 | G4: 备 注
D5: 金 额 | E5: 占预算% | F5: 比上年 增长%
A6: 一、文化旅游体育与传媒支出 | B6: 0 | C6: 436 | D6: 36 | F6: =(D6/B6-1)*100 -> #DIV/0!
A7: 国家电影事业发展专项资金安排的支出 | C7: 436 | D7: 36 | F7: =(D7/B7-1)*100 -> #DIV/0!
A8: 旅游发展基金支出 | F8: =(D8/B8-1)*100 -> #DIV/0!
A9: 二、城乡社区支出 | B9: 424951 | C9: 550092 | D9: 297041 | F9: =(D9/B9-1)*100 -> -30.099941
A10: 国有土地使用权出让收入及对应专项债务收入安排的支出 | B10: 288384 | C10: 466892 | D10: 262364 | F10: =(D10/B10-1)*100 -> -9.022692
A11: 国有土地收益基金及对应专项债务收入安排的支出 | E11: =D11/C11% -> #DIV/0! | F11: =(D11/B11-1)*100 -> #DIV/0!
A12: 农业土地开发资金安排的支出 | E12: =D12/C12% -> #DIV/0! | F12: =(D12/B12-1)*100 -> #DIV/0!
A13: 城市基础设施配套费安排的支出 | B13: 88367 | C13: 22000 | D13: 27677 | E13: =D13/C13% -> 125.80455 | F13: =(D13/B13-1)*100 -> -68.679484
A14: 污水处理费安排的支出 | B14: 0 | C14: 3000 | E14: =D14/C14% -> 0 | F14: =(D14/B14-1)*100 -> #DIV/0!
A15: 棚户区改造专项债券收入安排的支出 | B15: 48200 | C15: 58200 | E15: =D15/C15% -> 0 | F15: =(D15/B15-1)*100 -> -100
A16: 国有土地使用权出让收入对应专项债务收入安排的支出 | E16: =D16/C16% -> #DIV/0! | F16: =(D16/B16-1)*100 -> #DIV/0!
A17: 超长期特别国债安排的支出 | D17: 7000
A18: 三、农林水支出 | B18: 1 | C18: 136 | D18: 3706
A19: 大中型水库移民后期扶持基金支出 | B19: 1 | C19: 136 | D19: 136
A20: 超长期特别国债安排的支出 | D20: 3570
A21: 四、资源勘探工业信息等支出 | B21: 367 | C21: 0 | D21: 300
A22: 超长期特别国债安排的支出 | B22: 367 | D22: 300 | E22: =D22/C22% -> #DIV/0! | F22: =(D22/B22-1)*100 -> -18.256131
A23: 五、节能环保支出 | B23: 0 | C23: 0 | D23: 700
A24: 超长期特别国债安排的支出 | D24: 700 | E24: =D24/C24% -> #DIV/0! | F24: =(D24/B24-1)*100 -> #DIV/0!
A25: 六、其他支出 | B25: 50343 | C25: 118781 | D25: 280201 | E25: =D25/C25% -> 235.89716 | F25: =(D25/B25-1)*100 -> 456.58383
A26: 其他政府性基金及对应专项债务收入安排的支出 | B26: 49872 | C26: 118278 | D26: 279978 | E26: =D26/C26% -> 236.71181 | F26: =(D26/B26-1)*100 -> 461.39317
A27: 彩票公益金安排的支出 | B27: 471 | C27: 503 | D27: 223 | E27: =D27/C27% -> 44.333996 | F27: =(D27/B27-1)*100 -> -52.653928
A28: 七、债务付息支出 | B28: 28170 | C28: 30636 | D28: 32115 | E28: =D28/C28% -> 104.82765 | F28: =(D28/B28-1)*100 -> 14.00426
A30: 本年支出合计 | B30: =B6+B9+B25+B28+B18+B21+B23 -> 503832 | C30: =C6+C9+C25+C28+C18+C21+C23 -> 700081 | D30: =D6+D9+D25+D28+D18+D21+D23 -> 614099 | E30: =D30/C30% -> 87.718278 | F30: =(D30/B30-1)*100 -> 21.885668
A32: 债务还本支出 | B32: =SUM(B33:B33) -> 121950 | C32: =SUM(C33:C33) -> 7250 | D32: =SUM(D33:D33) -> 81450
A33: 地方政府专项债务还本支出 | B33: 121950 | C33: 7250 | D33: 81450
A35: 转移性支出 | B35: =SUM(B37:B39) -> 171694 | C35: =SUM(C37:C39) -> 21300 | D35: =SUM(D36:D39) -> 36221
A36: 补助下级支出 | D36: 630
A37: 上解支出 | B37: 13540 | C37: 300 | D37: 11790
A38: 调出资金 | B38: 35000 | C38: 21000
A39: 年终结余 | B39: 123154 | D39: 23801
A41: 支出总计 | B41: =B30+B35+B32 -> 797476 | C41: =C30+C35+C32 -> 728631 | D41: =D30+D35+D32 -> 731770 | E41: =D41/C41% -> 100.43081 | F41: =(D41/B41-1)*100 -> -8.2392448

Sheet 表15区对镇街政府性基金预算转移支付表
A1: 表15
A2: 2025年薛城区政府性基金对下转移支付分地区、分项目决算表
I3: 单位：万元
A4: 项 目 | B4: 合 计 | C4: 陶庄镇 | D4: 邹坞镇 | E4: 临城街道 | F4: 常庄街道 | G4: 沙沟镇 | H4: 周营镇 | I4: 新城街道
A5: 一、国家电影事业发展专项资金
A6: 二、旅游发展基金
A7: 三、大中型水库移民后期扶持基金
A8: 四、国有土地使用权出让收入及对应专项债务收入安排的支出 | B8: =SUM(C8:I8) -> 630 | C8: 630
A9: 五、国家重大水利工程建设基金
A10: 六、港口建设费安排的支出
A11: 七、民航发展基金
A12: 八、彩票公益金及彩票发行销售机构业务费安排的支出
A13: 九、其他政府性基金及对应专项债务收入安排的支出
A14: 合 计 | B14: 630 | C14: 630

Sheet 第三部分
A1: 第三部分 国有资本经营预算报表

Sheet 表16国有资本经营收入决算表
A1: 表16
A2: 2025年薛城区国有资本经营预算收入决算表
A3: 单位：万元
A4: 收入项目 | B4: 2024年 决算数 | C4: 2025年 预算数 | D4: 2025年决算数 | G4: 备 注
D5: 金额 | E5: 占预算 | F5: 比上年 增长%
A6: 一、利润收入 | B6: =B7 -> 5000 | C6: =SUM(C7:C11) -> 11900 | D6: =SUM(D7:D10) -> 2000 | E6: =D6/C6% -> 16.806723 | F6: =(D6/B6-1)*100 -> -60
A7: 煤炭企业利润收入 | B7: 5000 | C7: 3200 | D7: 2000 | E7: =D7/C7% -> 62.5 | F7: =(D7/B7-1)*100 -> -60
A8: 运输企业利润收入 | C8: 1100
A9: 建筑施工企业利润收入 | C9: 1100
A10: 卫生体育福利企业利润收入 | C10: 5600
A11: 教育文化广播企业利润收入 | C11: 900
A12: 二、股利、股息收入
A13: 国有控股公司股利、股息收入
A14: 三、产权转让收入
A15: 国有股权、股份转让收入
A16: 四、清算收入
A17: 五、其他国有资本经营预算收入
A18: 收入合计 | B18: =SUM(B6+B12+B14+B16+B17) -> 5000 | C18: =SUM(C6+C12+C14+C16+C17) -> 11900 | D18: =SUM(D6+D12+D14+D16+D17) -> 2000
A20: 五、转移性收入 | B20: 483 | C20: =C21 -> 490 | D20: =D21 -> 483
A21: 国有资本经营上级转移收入 | B21: 483 | C21: 490 | D21: 483
A22: 六、上年结余 | C22: 1905 | D22: 1905
A24: 收入总计 | B24: =B20+B18 -> 5483 | C24: =C18+C20+C22 -> 14295 | D24: =D18+D20+D22 -> 4388

Sheet 表17国有资本经营支出决算表
A1: 表17
A2: 2025年薛城区国有资本经营预算支出决算表
A3: 单位：万元
A4: 支出项目 | B4: 2024年 决算数 | C4: 2025年 预算数 | D4: 2025年决算数 | G4: 备 注
D5: 金额 | E5: 占预算 | F5: 比上年 增长%
A6: 一、社会保障和就业支出
A7: 补充全国社会保障基金
A8: 二、国有资本经营预算支出 | B8: =SUM(B9:B12) -> 3578 | C8: =SUM(C9:C12) -> 14295 | D8: =SUM(D9:D12) -> 2934 | E8: =D8/C8% -> 20.524659 | F8: =(D8/B8-1)*100 -> -17.998882
A9: 解决历史遗留问题及改革成本支出 | B9: 3578 | C9: 2383 | D9: 2011 | E9: =D9/C9% -> 84.389425 | F9: =(D9/B9-1)*100 -> -43.795416
A10: 国有企业资本金注入 | C10: 11912 | D10: 923 | E10: =D10/C10% -> 7.7484889 | F10: =(D10/B10-1)*100 -> #DIV/0!
A11: 国有企业改革成本支出
A12: 其他国有资本经营预算支出 | E12: =D12/C12% -> #DIV/0! | F12: =(D12/B12-1)*100 -> #DIV/0!
A13: 支出合计 | B13: =B8 -> 3578 | C13: =C6+C8 -> 14295 | D13: =D6+D8 -> 2934 | E13: =D13/C13% -> 20.524659 | F13: =(D13/B13-1)*100 -> -17.998882
A15: 五、调出资金
A16: 六、年终结余 | B16: 1905 | D16: 1454
A18: 支出总计 | B18: =B13+B15+B16 -> 5483 | C18: =C13+C15+C16 -> 14295 | D18: =D13+D15+D16 -> 4388

Sheet 表18本级国有资本经营收入决算表
A1: 表18
A2: 2025年薛城区本级国有资本经营预算收入决算表
A3: 单位：万元
A4: 收入项目 | B4: 2024年 决算数 | C4: 2025年 预算数 | D4: 2025年决算数 | G4: 备 注
D5: 金额 | E5: 占预算 | F5: 比上年 增长%
A6: 一、利润收入 | B6: =B7 -> 5000 | C6: =SUM(C7:C11) -> 11900 | D6: =SUM(D7:D10) -> 2000 | E6: =D6/C6% -> 16.806723 | F6: =(D6/B6-1)*100 -> -60
A7: 煤炭企业利润收入 | B7: 5000 | C7: 3200 | D7: 2000 | E7: =D7/C7% -> 62.5 | F7: =(D7/B7-1)*100 -> -60
A8: 运输企业利润收入 | C8: 1100
A9: 建筑施工企业利润收入 | C9: 1100
A10: 卫生体育福利企业利润收入 | C10: 5600
A11: 教育文化广播企业利润收入 | C11: 900
A12: 二、股利、股息收入
A13: 国有控股公司股利、股息收入
A14: 三、产权转让收入
A15: 国有股权、股份转让收入
A16: 四、清算收入
A17: 五、其他国有资本经营预算收入
A18: 收入合计 | B18: =SUM(B6+B12+B14+B16+B17) -> 5000 | C18: =SUM(C6+C12+C14+C16+C17) -> 11900 | D18: =SUM(D6+D12+D14+D16+D17) -> 2000
A20: 五、转移性收入 | B20: 483 | C20: =C21 -> 490 | D20: =D21 -> 483
A21: 国有资本经营上级转移收入 | B21: 483 | C21: 490 | D21: 483
A22: 六、上年结余 | C22: 1905 | D22: 1905
A24: 收入总计 | B24: =B20+B18 -> 5483 | C24: =C18+C20+C22 -> 14295 | D24: =D18+D20+D22 -> 4388

Sheet 表19本级国有资本经营支出决算表
A1: 表19
A2: 2025年薛城区本级国有资本经营预算支出决算表
A3: 单位：万元
A4: 支出项目 | B4: 2024年 决算数 | C4: 2025年 预算数 | D4: 2025年决算数 | G4: 备 注
D5: 金额 | E5: 占预算 | F5: 比上年 增长%
A6: 一、社会保障和就业支出
A7: 补充全国社会保障基金
A8: 二、国有资本经营预算支出 | B8: =SUM(B9:B12) -> 3578 | C8: =SUM(C9:C12) -> 14295 | D8: =SUM(D9:D12) -> 2450 | E8: =D8/C8% -> 17.13886 | F8: =(D8/B8-1)*100 -> -31.525992
A9: 解决历史遗留问题及改革成本支出 | B9: 3578 | C9: 2383 | D9: =2011-484 -> 1527 | E9: =D9/C9% -> 64.078892 | F9: =(D9/B9-1)*100 -> -57.322527
A10: 国有企业资本金注入 | C10: 11912 | D10: 923 | E10: =D10/C10% -> 7.7484889 | F10: =(D10/B10-1)*100 -> #DIV/0!
A11: 国有企业改革成本支出
A12: 其他国有资本经营预算支出 | E12: =D12/C12% -> #DIV/0! | F12: =(D12/B12-1)*100 -> #DIV/0!
A13: 支出合计 | B13: =B8 -> 3578 | C13: =C6+C8 -> 14295 | D13: =D6+D8 -> 2450 | E13: =D13/C13% -> 17.13886 | F13: =(D13/B13-1)*100 -> -31.525992
A15: 五、调出资金
A16: 六、补助下级支出 | D16: 484
A17: 七、年终结余 | B17: 1905 | D17: 1454
A19: 支出总计 | B19: 3453 | C19: 5500 | D19: =D13+D15+D17+D16 -> 4388

Sheet 表20区对镇街国有资本经营预算转移支付表
A1: 表20
A2: 2025年薛城区国有资本经营预算对下转移支付分地区、分项目决算表
I3: 单位：万元
A4: 项 目 | B4: 合 计 | C4: 陶庄镇 | D4: 邹坞镇 | E4: 临城街道 | F4: 常庄街道 | G4: 沙沟镇 | H4: 周营镇 | I4: 新城街道
A5: 一、社会保障和就业支出
A6: 补充全国社会保障基金
A7: 二、国有资本经营预算支出
A8: 解决历史遗留问题及改革成本支出 | B8: =SUM(C8:I8) -> 484 | C8: 115 | D8: 15 | E8: 155 | F8: 112 | G8: 5 | H8: 4 | I8: 78
A9: 国有企业资本金注入
A10: 国有企业政策性补贴（款）
A11: 其他国有资本经营预算支出（款）
A12: 合 计 | B12: =SUM(C12:I12) -> 484 | C12: =C8 -> 115 | D12: =D8 -> 15 | E12: =E8 -> 155 | F12: =F8 -> 112 | G12: =G8 -> 5 | H12: =H8 -> 4 | I12: =I8 -> 78

Sheet 第四部分
A1: 第四部分 社会保险基金预算报表

Sheet 表21社会保险基金收入
A1: 表21
A2: 2025年薛城区社会保险基金收入决算表
F3: 单位：万元
A4: 收 入 项 目 | B4: 2024年 决算数 | C4: 2025年 预算数 | D4: 2025年决算数 | G4: 备 注
D5: 金 额 | E5: 占预算% | F5: 比上年 增长%
A6: 社会保险基金收入合计 | B6: =SUM(B7:B13) -> 65082 | C6: =SUM(C7:C13) -> 75811 | D6: =SUM(D7:D20) -> 90378 | E6: =ROUND(D6/C6*100,1) -> 119.2 | F6: =(D6/B6-1)*100 -> 38.86789
A7: 其中:社会保险费收入 | B7: =B23+B31 -> 23467 | C7: =C23+C31 -> 30104 | D7: =D23+D31 -> 38790 | E7: =ROUND(D7/C7*100,1) -> 128.9 | F7: =(D7/B7-1)*100 -> 65.295948
A8: 财政补贴收入 | B8: =B24+B32 -> 35982 | C8: =C24+C32 -> 44023 | D8: =D24+D32 -> 47085 | E8: =ROUND(D8/C8*100,1) -> 107 | F8: =(D8/B8-1)*100 -> 30.857095
A9: 利息收入 | B9: =B25+B33 -> 664 | C9: =C25+C33 -> 864 | D9: =D25+D33 -> 1014 | E9: =ROUND(D9/C9*100,1) -> 117.4 | F9: =(D9/B9-1)*100 -> 52.710843
A10: 委托投资收益 | B10: =B26+B34 -> 0 | C10: =C26+C34 -> 0 | D10: =D26+D34 -> 2202
A11: 转移收入 | B11: =B27+B35 -> 666 | C11: =C27+C35 -> 740 | D11: =D27+D35 -> 628 | E11: =ROUND(D11/C11*100,1) -> 84.9 | F11: =(D11/B11-1)*100 -> -5.7057057
A12: 其他收入 | B12: =B28+B36 -> 4303 | C12: =C28+C36 -> 80 | D12: =D28+D36 -> 659 | E12: =ROUND(D12/C12*100,1) -> 823.8 | F12: =(D12/B12-1)*100 -> -84.685103
A13: 全国统筹调剂资金收入
A14: 一、企业职工基本养老保险基金收入
A15: 其中:社会保险费收入
A16: 财政补贴收入
A17: 利息收入
A18: 委托投资收益
A19: 转移收入
A20: 其他收入
A21: 全国统筹调剂资金收入
A22: 二、城乡居民基本养老保险基金收入 | B22: =SUM(B23:B29) -> 19599 | C22: =SUM(C23:C29) -> 26301 | D22: =SUM(D23:D29) -> 40773 | E22: =ROUND(D22/C22*100,1) -> 155 | F22: =(D22/B22-1)*100 -> 108.03612
A23: 其中:社会保险费收入 | B23: 6716 | C23: 7518 | D23: 15670 | E23: =ROUND(D23/C23*100,1) -> 208.4 | F23: =(D23/B23-1)*100 -> 133.32341
A24: 财政补贴收入 | B24: 7888 | C24: 17823 | D24: 21739 | E24: =ROUND(D24/C24*100,1) -> 122 | F24: =(D24/B24-1)*100 -> 175.59584
A25: 利息收入 | B25: 660 | C25: 860 | D25: 1009 | E25: =ROUND(D25/C25*100,1) -> 117.3 | F25: =(D25/B25-1)*100 -> 52.878788
A26: 委托投资收益 | D26: 2202
A27: 转移收入 | B27: 82 | C27: 80 | D27: 126 | E27: =ROUND(D27/C27*100,1) -> 157.5 | F27: =(D27/B27-1)*100 -> 53.658537
A28: 其他收入 | B28: 4253 | C28: 20 | D28: 27 | E28: =ROUND(D28/C28*100,1) -> 135 | F28: =(D28/B28-1)*100 -> -99.365154
A29: 全国统筹调剂资金收入
A30: 三、机关事业单位养老保险基金收入 | B30: =SUM(B31:B37) -> 45483 | C30: =SUM(C31:C37) -> 49510 | D30: =SUM(D31:D37) -> 49605 | E30: =ROUND(D30/C30*100,1) -> 100.2 | F30: =(D30/B30-1)*100 -> 9.0627267
A31: 其中:社会保险费收入 | B31: 16751 | C31: 22586 | D31: 23120 | E31: =ROUND(D31/C31*100,1) -> 102.4 | F31: =(D31/B31-1)*100 -> 38.021611
A32: 财政补贴收入 | B32: 28094 | C32: 26200 | D32: 25346 | E32: =ROUND(D32/C32*100,1) -> 96.7 | F32: =(D32/B32-1)*100 -> -9.781448
A33: 利息收入 | B33: 4 | C33: 4 | D33: 5 | E33: =ROUND(D33/C33*100,1) -> 125 | F33: =(D33/B33-1)*100 -> 25
A34: 委托投资收益 | B34: 0
A35: 转移收入 | B35: 584 | C35: 660 | D35: 502 | E35: =ROUND(D35/C35*100,1) -> 76.1 | F35: =(D35/B35-1)*100 -> -14.041096
A36: 其他收入 | B36: 50 | C36: 60 | D36: 632 | F36: =(D36/B36-1)*100 -> 1164
A37: 全国统筹调剂资金收入
A38: 四、职工基本医疗保险(含生育保险）基金收入
A39: 其中:社会保险费收入
A40: 财政补贴收入
...

Sheet 表22社会保险基金支出
A1: 表22
A2: 2025年薛城区社会保险基金支出决算表
F3: 单位：万元
A4: 收 入 项 目 | B4: 2024年 决算数 | C4: 2025年 预算数 | D4: 2025年决算数 | G4: 备 注
D5: 金 额 | E5: 占预算% | F5: 比上年 增长%
A6: 社会保险基金支出合计 | B6: =SUM(B7:B10) -> 68376 | C6: =SUM(C7:C10) -> 73562 | D6: =SUM(D7:D10) -> 71885 | E6: =ROUND(D6/C6*100,1) -> 97.7 | F6: =(D6/B6-1)*100 -> 5.1319176
A7: 其中：社会保险待遇支出 | B7: =B18+B22 -> 68210 | C7: =C18+C22 -> 73368 | D7: =D18+D22 -> 71664 | E7: =ROUND(D7/C7*100,1) -> 97.7 | F7: =(D7/B7-1)*100 -> 5.0637736
A8: 其他支出 | B8: =B19+B23 -> 29 | C8: =C19+C23 -> 24 | D8: =D19+D23 -> 67
A9: 转移支出 | B9: =B20+B24 -> 137 | C9: =C20+C24 -> 170 | D9: =D20+D24 -> 154 | E9: =ROUND(D9/C9*100,1) -> 90.6 | F9: =(D9/B9-1)*100 -> 12.408759
A10: 上解上级支出
A11: 一、企业职工基本养老保险基金支出
A12: 其中：基本养老金支出
A13: 丧葬抚恤补助支出
A14: 其他支出
A15: 转移支出
A16: 上解上级支出
A17: 二、城乡居民基本养老保险基金支出 | B17: =B18+B20+B19 -> 21977 | C17: =C18+C20+C19 -> 24055 | D17: =D18+D20+D19 -> 25472 | E17: =ROUND(D17/C17*100,1) -> 105.9 | F17: =(D17/B17-1)*100 -> 15.902989
A18: 其中：基本养老金支出 | B18: 21889 | C18: 23965 | D18: 25342 | E18: =ROUND(D18/C18*100,1) -> 105.7 | F18: =(D18/B18-1)*100 -> 15.775047
A19: 其他支出 | B19: 21 | C19: 20 | D19: 44
A20: 转移支出 | B20: 67 | C20: 70 | D20: 86 | E20: =ROUND(D20/C20*100,1) -> 122.9 | F20: =(D20/B20-1)*100 -> 28.358209
A21: 三、机关事业单位养老保险基金支出 | B21: =B22+B24+B23 -> 46399 | C21: =C22+C24+C23 -> 49507 | D21: =D22+D24+D23 -> 46413 | E21: =ROUND(D21/C21*100,1) -> 93.8 | F21: =(D21/B21-1)*100 -> 0.030173064
A22: 其中：基本养老金支出 | B22: 46321 | C22: 49403 | D22: 46322 | E22: =ROUND(D22/C22*100,1) -> 93.8 | F22: =(D22/B22-1)*100 -> 0.002158848
A23: 其他支出 | B23: 8 | C23: 4 | D23: 23
A24: 转移支出 | B24: 70 | C24: 100 | D24: 68 | E24: =ROUND(D24/C24*100,1) -> 68 | F24: =(D24/B24-1)*100 -> -2.8571429
A25: 四、职工基本医疗保险(含生育保险）基金支出
A26: 其中：基本医疗保险待遇——住院支出
A27: 基本医疗保险待遇——门诊支出
A28: 生育医疗费用支出
A29: 生育津贴支出
A30: 其他支出
A31: 转移支出
A32: 五、城乡居民基本医疗保险基金支出
A33: 其中：基本医疗保险待遇——住院支出
A34: 基本医疗保险待遇——门诊支出
A35: 大病保险支出
A36: 其他支出
... A53: 注：企业职工基本养老保险基金收支、职工基本医疗保险(含生育保险）基金收支、城乡居民基本医疗保险基金收支、工伤保险基金收支和失业保险基金收支决算由市级统一编制，不在细化到区县。

Sheet 表23本级社会保险基金收入
A1: 表23
A2: 2025年薛城区本级社会保险基金收入决算表
F3: 单位：万元
A4: 收 入 项 目 | B4: 2024年 决算数 | C4: 2025年 预算数 | D4: 2025年决算数 | G4: 备 注
D5: 金 额 | E5: 占预算% | F5: 比上年 增长%
A6: 社会保险基金收入合计 | B6: 65082 | C6: 75811 | D6: 90378 | E6: 119.2 | F6: 38.86789
A7: 其中：保险费收入 | B7: 23467 | C7: 30104 | D7: 38790 | E7: 128.9 | F7: 65.295948
A8: 利息收入 | B8: 35982 | C8: 44023 | D8: 47085 | E8: 107 | F8: 30.857095
A9: 财政补贴收入 | B9: 664 | C9: 864 | D9: 1014 | E9: 117.4 | F9: 52.710843
A10: 委托投资收益 | B10: 0 | C10: 0 | D10: 2202
A11: 其他收入 | B11: 666 | C11: 740 | D11: 628 | E11: 84.9 | F11: -5.7057057
A12: 转移收入 | B12: 4303 | C12: 80 | D12: 659 | E12: 823.8 | F12: -84.685103
A13: 上级补助收入
A14: 一、企业职工基本养老保险基金收入
A15: 其中：保险费收入
A16: 利息收入
A17: 财政补贴收入
A18: 委托投资收益
A19: 其他收入
A20: 转移收入
A21: 上级补助收入
A22: 二、城乡居民基本养老保险基金收入 | B22: 19599 | C22: 26301 | D22: 40773 | E22: 155 | F22: 108.03612
A23: 其中：保险费收入 | B23: 6716 | C23: 7518 | D23: 15670 | E23: 208.4 | F23: 133.32341
A24: 利息收入 | B24: 7888 | C24: 17823 | D24: 21739 | E24: 122 | F24: 175.59584
A25: 财政补贴收入 | B25: 660 | C25: 860 | D25: 1009 | E25: 117.3 | F25: 52.878788
A26: 委托投资收益 | D26: 2202
A27: 其他收入 | B27: 82 | C27: 80 | D27: 126 | E27: 157.5 | F27: 53.658537
A28: 转移收入 | B28: 4253 | C28: 20 | D28: 27 | E28: 135 | F28: -99.365154
A29: 上级补助收入
A30: 三、机关事业单位养老保险基金收入 | B30: 45483 | C30: 49510 | D30: 49605 | E30: 100.2 | F30: 9.0627267
A31: 其中：保险费收入 | B31: 16751 | C31: 22586 | D31: 23120 | E31: 102.4 | F31: 38.021611
A32: 利息收入 | B32: 28094 | C32: 26200 | D32: 25346 | E32: 96.7 | F32: -9.781448
A33: 财政补贴收入 | B33: 4 | C33: 4 | D33: 5 | E33: 125 | F33: 25
A34: 委托投资收益 | B34: 0
A35: 其他收入 | B35: 584 | C35: 660 | D35: 502 | E35: 76.1 | F35: -14.041096
A36: 转移收入 | B36: 50 | C36: 60 | D36: 632 | F36: 1164
A37: 上级补助收入
A38: 四、职工基本医疗保险(含生育保险）基金收入
A39: 其中：保险费收入
A40: 利息收入
...

Sheet 表24本级社会保险基金支出
A1: 表24
A2: 2025年薛城区本级社会保险基金支出决算表
F3: 单位：万元
A4: 收 入 项 目 | B4: 2024年 决算数 | C4: 2025年 预算数 | D4: 2025年决算数 | G4: 备 注
D5: 金 额 | E5: 占预算% | F5: 比上年 增长%
A6: 社会保险基金支出合计 | B6: 68376 | C6: 73562 | D6: 71885 | E6: 97.7 | F6: 5.1319176
A7: 其中：社会保险待遇支出 | B7: 68210 | C7: 73368 | D7: 71664 | E7: 97.7 | F7: 5.0637736
A8: 其他支出 | B8: 29 | C8: 24 | D8: 67
A9: 转移支出 | B9: 137 | C9: 170 | D9: 154 | E9: 90.6 | F9: 12.408759
A10: 上解上级支出
A11: 一、企业职工基本养老保险基金支出
A12: 其中：基本养老金支出
A13: 丧葬抚恤补助支出
A14: 其他支出
A15: 转移支出
A16: 上解上级支出
A17: 二、城乡居民基本养老保险基金支出 | B17: 21977 | C17: 24055 | D17: 25472 | E17: 105.9 | F17: 15.902989
A18: 其中：基本养老金支出 | B18: 21889 | C18: 23965 | D18: 25342 | E18: 105.7 | F18: 15.775047
A19: 其他支出 | B19: 21 | C19: 20 | D19: 44
A20: 转移支出 | B20: 67 | C20: 70 | D20: 86 | E20: 122.9 | F20: 28.358209
A21: 三、机关事业单位养老保险基金支出 | B21: 46399 | C21: 49507 | D21: 46413 | E21: 93.8 | F21: 0.030173064
A22: 其中：基本养老金支出 | B22: 46321 | C22: 49403 | D22: 46322 | E22: 93.8 | F22: 0.002158848
A23: 其他支出 | B23: 8 | C23: 4 | D23: 23
A24: 转移支出 | B24: 70 | C24: 100 | D24: 68 | E24: 68 | F24: -2.8571429
A25: 四、职工基本医疗保险(含生育保险）基金支出
A26: 其中：基本医疗保险待遇——住院支出
A27: 基本医疗保险待遇——门诊支出
A28: 生育医疗费用支出
A29: 生育津贴支出
A30: 其他支出
A31: 转移支出
A32: 五、城乡居民基本医疗保险基金支出
A33: 其中：基本医疗保险待遇——住院支出
A34: 基本医疗保险待遇——门诊支出
A35: 大病保险支出
A36: 其他支出
... A53: 注：企业职工基本养老保险基金收支、职工基本医疗保险(含生育保险）基金收支、城乡居民基本医疗保险基金收支、工伤保险基金收支和失业保险基金收支决算由市级统一编制，不在细化到区县。

Sheet 表25社会保险基金结余
A1: 表25
A2: 2025年薛城区社会保险基金结余决算表
B3: 单位：万元
A4: 项 目 | B4: 2025年决算数
A5: 社会保险基金结余合计 | B5: =SUM(B6:B12) -> 116580
A6: 一、企业职工基本养老保险基金结余
A7: 二、城乡居民基本养老保险基金结余 | B7: 116490
A8: 三、机关事业单位养老保险基金结余 | B8: 90
A9: 四、职工基本医疗保险（含生育保险） 基金结余
A10: 五、城乡居民基本医疗保险基金结余
A11: 六、工伤保险基金结余
A12: 七、失业保险基金结余

Sheet 第五部分
A1: 第五部分 地方政府债务情况

Sheet 表26债务限额和余额
A1: 表26
A2: 2025年薛城区地方政府债务限额余额表
E3: 单位：万元
A4: 地 区 | B4: 2024年政府债务 余 额 | C4: 2025年新增债务 限 额 | D4: 2025年政府债务 限 额 | E4: 2025年政府债务 余 额
A5: 薛城区 | B5: =表27一般债务限额和余额!B5+表28专项债务限额和余额!B5 -> 1253374 | C5: =表27一般债务限额和余额!C5+表28专项债务限额和余额!C5 -> 171800 | D5: =表27一般债务限额和余额!D5+表28专项债务限额和余额!D5 -> 1554820 | E5: =表27一般债务限额和余额!E5+表28专项债务限额和余额!E5 -> 1487902

Sheet 表27一般债务限额和余额
A1: 表27
A2: 2025年薛城区地方政府一般债务限额余额表
E3: 单位：万元
A4: 地 区 | B4: 2024年政府一般 债务余额 | C4: 2025年新增一般 债务限额 | D4: 2025年政府一般 债务限额 | E4: 2025年政府一般 债务余额
A5: 薛城区 | B5: 217814 | C5: 0 | D5: 218042 | E5: 217167

Sheet 表28专项债务限额和余额
A1: 表28
A2: 2025年薛城区地方政府专项债务限额余额表
E3: 单位：万元
A4: 地 区 | B4: 2024年政府专项 债务余额 | C4: 2025年新增专项 债务限额 | D4: 2025年政府专项 债务限额 | E4: 2025年政府专项 债务余额
A5: 薛城区 | B5: 1035560 | C5: 171800 | D5: 1336778 | E5: 1270735

Sheet 表29债券发行
A1: 表29
A2: 2025年薛城区地方政府债券发行表
H3: 单位：万元
A4: 地 区 | B4: 合计 | C4: 一般债券额度 | F4: 专项债券额度
C5: 小计 | D5: 新增债券 | E5: 置换债券（含再融资债券） | F5: 小计 | G5: 新增债券 | H5: 置换债券（含再融资债券）
A6: 薛城区 | B6: =C6+F6 -> 250255 | C6: 7830 | D6: 0 | E6: 7830 | F6: =SUM(G6:H6) -> 242425 | G6: 161700 | H6: 80725

Sheet 表30债券还本付息
A1: 表30
A2: 2025年薛城区地方政府债券还本付息表
D3: 单位：万元
A4: 地 区 | B4: 政府债券还本付息
B5: 小计 | C5: 债券还本 | D5: 债券付息
A6: 薛城区 | B6: =SUM(C6:D6) -> 129049 | C6: 90178 | D6: =6756+32115 -> 38871

Sheet 表31分地区债券资金使用情况
A1: 表31
A2: 2025年薛城区地方政府专项债券分用途表
H3: 单位：万元
A4: 地 区 | B4: 小计 | C4: 交通基础设施 | D4: 农林水利建设 | E4: 社会事业 | F4: 市政和产业园 基础设施 | G4: 保障性安居工程 | H4: 其他
A5: 薛城区 | B5: =SUM(C5:H5) -> 242425 | H5: 242425

Sheet 表32债务收支决算草案表
A1: 表32
A2: 2025年薛城区地方政府债务收支决算表
B3: 单位：万元
A4: 项 目 | B4: 全区
A5: 一、2024年末地方政府债务余额 | B5: =B6+B7 -> 1253374
A6: 其中：一般债务 | B6: 217814
A7: 专项债务 | B7: 1035560
A8: 二、2024年地方政府债务限额 | B8: =B9+B10 -> 1383119
A9: 其中：一般债务 | B9: 218141
A10: 专项债务 | B10: 1164978
A11: 三、2025年地方政府债券发行决算数 | B11: =B13+B16+B17 -> 250255
A12: 新增一般债券发行额 | B12: 0
A13: 置换一般债券发行额 | B13: 7830
A14: 其中： 偿还存量债务一般债券发行额 | B14: 0
A15: 再融资一般债券发行额 | B15: 7830
A16: 新增专项债券发行额 | B16: 161700
A17: 置换专项债券发行额 | B17: 80725
A18: 其中：偿还存量债务专项债券发行额 | B18: =58200+16000 -> 74200
A19: 再融资专项债券发行额 | B19: 6525
A20: 四、2025年外债举借额
A21: 五、2025年地方政府债务还本支出决算数 | B21: =B22+B24 -> 90150
A22: 一般债务还本支出 | B22: 8700
A23: 其中：向外国政府及国际组织借款还本支出 | B23: 28
A24: 专项债务还本支出 | B24: 81450
A25: 六、2025年地方政府债务付息支出决算数 | B25: =B26+B28 -> 38871
A26: 一般债务付息支出 | B26: 6756
A27: 其中：向外国政府及国际组织借款付息支出 | B27: 15
A28: 专项债务付息支出 | B28: 32115
A29: 七、2025年末地方政府债务余额决算数 | B29: =B30+B31 -> 1487902
A30: 其中：一般债务 | B30: 217167
A31: 专项债务 | B31: 1270735
A32: 八、2025年地方政府债务限额 | B32: =B33+B34 -> 1554820
A33: 其中：一般债务 | B33: 218042
A34: 专项债务 | B34: 1336778
